BEGIN:VCALENDAR
VERSION:2.0
PRODID:-//Bayshore Center - ECPv6.15.18//NONSGML v1.0//EN
CALSCALE:GREGORIAN
METHOD:PUBLISH
X-ORIGINAL-URL:https://www.bayshorecenter.org
X-WR-CALDESC:Events for Bayshore Center
REFRESH-INTERVAL;VALUE=DURATION:PT1H
X-Robots-Tag:noindex
X-PUBLISHED-TTL:PT1H
BEGIN:VTIMEZONE
TZID:America/New_York
BEGIN:DAYLIGHT
TZOFFSETFROM:-0500
TZOFFSETTO:-0400
TZNAME:EDT
DTSTART:20240310T070000
END:DAYLIGHT
BEGIN:STANDARD
TZOFFSETFROM:-0400
TZOFFSETTO:-0500
TZNAME:EST
DTSTART:20241103T060000
END:STANDARD
BEGIN:DAYLIGHT
TZOFFSETFROM:-0500
TZOFFSETTO:-0400
TZNAME:EDT
DTSTART:20250309T070000
END:DAYLIGHT
BEGIN:STANDARD
TZOFFSETFROM:-0400
TZOFFSETTO:-0500
TZNAME:EST
DTSTART:20251102T060000
END:STANDARD
BEGIN:DAYLIGHT
TZOFFSETFROM:-0500
TZOFFSETTO:-0400
TZNAME:EDT
DTSTART:20260308T070000
END:DAYLIGHT
BEGIN:STANDARD
TZOFFSETFROM:-0400
TZOFFSETTO:-0500
TZNAME:EST
DTSTART:20261101T060000
END:STANDARD
END:VTIMEZONE
BEGIN:VEVENT
DTSTART;TZID=America/New_York:20251112T140000
DTEND;TZID=America/New_York:20251112T150000
DTSTAMP:20260423T071113
CREATED:20250917T185210Z
LAST-MODIFIED:20251024T171417Z
UID:10001227-1762956000-1762959600@www.bayshorecenter.org
SUMMARY:Fall Museum Series - Art and Film
DESCRIPTION:Join us in the museum for our Museum Fall Series of Art and Film\nFree to Members / $7 nonmembers\nWednesdays 2 pm Select Dates Sep. 24th – Dec. 3rd\n\n\n\nSep. 24th – Film Series: A Meeting of Migration\n\nMichael Oates and Jeanne Covert present with film maker Q&A. The film explores the migration of the horseshoe crabs and the migratory shorebirds that congregate on the shores of Delaware Bay\n\n\n\nOct. 8th – Art Series: Presentation on photographer Sam Cobb\n\nThis presentation will showcase the original work of Samuel Cobb and his great-niece Rachel Cobb on the Port Norris community\n\n\n\nOct. 22nd – Film Series: UNFILTERED The Truth About Oysters\n\nWith virtual Q&A with filmmaker : UNFILTERED: The Truth About Oysters is an Emmy award-winning documentary film that explores the oyster’s role both in our world and its own\n\n\n\nNov. 12th – Art Series: Photographers of the Delaware Bay with Michael Chirappa\n\nFrom the closing years of the nineteenth century until the early 1940s\, a series of photographers took stock of\, and responded to\, these developments on New Jersey’s Delaware Bay\n\n\n\nNov 19th Film Series: Empire Oysters Shorts\n\nView 5 short films produced\, & directed by Kevin Joseph of Empire Oyster\n\n\n\nDec. 3 2:30 pm Ty “Dancing Wolf” Ellis of Lenapehoking Reestablishment Project\n\nTy Dancing Wolf will bring and share Indigenous art with a focus on coastal art and discuss the Lenapehoking Reestablishment Project activities and efforts\n\n\n\n  \nFunding has been made possible in part by the New Jersey State Council on the Arts / Department of State and the Cumberland County Board of Commissioners through the Cumberland County Cultural and Heritage Commission
URL:https://www.bayshorecenter.org/upcoming-event/fall-museum-series-art-and-film/2025-11-12/
CATEGORIES:Events,Featured
ATTACH;FMTTYPE=image/png:https://www.bayshorecenter.org/wp-content/uploads/2025/09/Fall-Museum-Series-1920-x-1080-px-Poster-Square.png
END:VEVENT
BEGIN:VEVENT
DTSTART;TZID=America/New_York:20251114T170000
DTEND;TZID=America/New_York:20251114T200000
DTSTAMP:20260423T071113
CREATED:20240609T194818Z
LAST-MODIFIED:20250908T202826Z
UID:10001196-1763139600-1763150400@www.bayshorecenter.org
SUMMARY:November 14\, 2025 - 2nd Friday - 5-8 pm
DESCRIPTION:Great food from the Oyster Cracker Café including fried oysters\, delicious\, fresh\, oysters on the half shell\, local beers from Glasstown Brewing Co at AJ’s Pub\, free\, self-guided tours of the Delaware Bay Museum\, an interesting speaker and live music. Check out the Meerwald Mercantile while you are here featuring hand crafted items from several local artists and local authors. All proceeds go to support the Bayshore Center at Bivalve\, home of AJ Meerwald and the Delaware Bay Museum.\nLive music on the docks 5-8:30 pm – Nick Marley\n \n  \n6:30 Speaker in the Delaware Bay Museum – Craig Tomlin\nCraig Tomlin is a Fisheries Biologist with the Bureau of Marine Habitat and Shellfisheries\, Depart of Environmental Protection. He will be speaking on the Past\, Present and future of the Delaware Bay Oyster Fishery.
URL:https://www.bayshorecenter.org/upcoming-event/november-8-2024-2nd-friday-5-830-pm/
CATEGORIES:Events,Featured
ATTACH;FMTTYPE=image/jpeg:https://www.bayshorecenter.org/wp-content/uploads/2021/08/IMG_8772.jpg
END:VEVENT
BEGIN:VEVENT
DTSTART;TZID=America/New_York:20251119T140000
DTEND;TZID=America/New_York:20251119T150000
DTSTAMP:20260423T071113
CREATED:20250917T185210Z
LAST-MODIFIED:20251024T171417Z
UID:10001228-1763560800-1763564400@www.bayshorecenter.org
SUMMARY:Fall Museum Series - Art and Film
DESCRIPTION:Join us in the museum for our Museum Fall Series of Art and Film\nFree to Members / $7 nonmembers\nWednesdays 2 pm Select Dates Sep. 24th – Dec. 3rd\n\n\n\nSep. 24th – Film Series: A Meeting of Migration\n\nMichael Oates and Jeanne Covert present with film maker Q&A. The film explores the migration of the horseshoe crabs and the migratory shorebirds that congregate on the shores of Delaware Bay\n\n\n\nOct. 8th – Art Series: Presentation on photographer Sam Cobb\n\nThis presentation will showcase the original work of Samuel Cobb and his great-niece Rachel Cobb on the Port Norris community\n\n\n\nOct. 22nd – Film Series: UNFILTERED The Truth About Oysters\n\nWith virtual Q&A with filmmaker : UNFILTERED: The Truth About Oysters is an Emmy award-winning documentary film that explores the oyster’s role both in our world and its own\n\n\n\nNov. 12th – Art Series: Photographers of the Delaware Bay with Michael Chirappa\n\nFrom the closing years of the nineteenth century until the early 1940s\, a series of photographers took stock of\, and responded to\, these developments on New Jersey’s Delaware Bay\n\n\n\nNov 19th Film Series: Empire Oysters Shorts\n\nView 5 short films produced\, & directed by Kevin Joseph of Empire Oyster\n\n\n\nDec. 3 2:30 pm Ty “Dancing Wolf” Ellis of Lenapehoking Reestablishment Project\n\nTy Dancing Wolf will bring and share Indigenous art with a focus on coastal art and discuss the Lenapehoking Reestablishment Project activities and efforts\n\n\n\n  \nFunding has been made possible in part by the New Jersey State Council on the Arts / Department of State and the Cumberland County Board of Commissioners through the Cumberland County Cultural and Heritage Commission
URL:https://www.bayshorecenter.org/upcoming-event/fall-museum-series-art-and-film/2025-11-19/
CATEGORIES:Events,Featured
ATTACH;FMTTYPE=image/png:https://www.bayshorecenter.org/wp-content/uploads/2025/09/Fall-Museum-Series-1920-x-1080-px-Poster-Square.png
END:VEVENT
END:VCALENDAR