BEGIN:VCALENDAR
VERSION:2.0
PRODID:-//Bayshore Center - ECPv6.15.18//NONSGML v1.0//EN
CALSCALE:GREGORIAN
METHOD:PUBLISH
X-ORIGINAL-URL:https://www.bayshorecenter.org
X-WR-CALDESC:Events for Bayshore Center
REFRESH-INTERVAL;VALUE=DURATION:PT1H
X-Robots-Tag:noindex
X-PUBLISHED-TTL:PT1H
BEGIN:VTIMEZONE
TZID:America/New_York
BEGIN:DAYLIGHT
TZOFFSETFROM:-0500
TZOFFSETTO:-0400
TZNAME:EDT
DTSTART:20240310T070000
END:DAYLIGHT
BEGIN:STANDARD
TZOFFSETFROM:-0400
TZOFFSETTO:-0500
TZNAME:EST
DTSTART:20241103T060000
END:STANDARD
BEGIN:DAYLIGHT
TZOFFSETFROM:-0500
TZOFFSETTO:-0400
TZNAME:EDT
DTSTART:20250309T070000
END:DAYLIGHT
BEGIN:STANDARD
TZOFFSETFROM:-0400
TZOFFSETTO:-0500
TZNAME:EST
DTSTART:20251102T060000
END:STANDARD
BEGIN:DAYLIGHT
TZOFFSETFROM:-0500
TZOFFSETTO:-0400
TZNAME:EDT
DTSTART:20260308T070000
END:DAYLIGHT
BEGIN:STANDARD
TZOFFSETFROM:-0400
TZOFFSETTO:-0500
TZNAME:EST
DTSTART:20261101T060000
END:STANDARD
END:VTIMEZONE
BEGIN:VEVENT
DTSTART;TZID=America/New_York:20250509T170000
DTEND;TZID=America/New_York:20250509T200000
DTSTAMP:20260423T162706
CREATED:20240227T210010Z
LAST-MODIFIED:20250429T134249Z
UID:10001190-1746810000-1746820800@www.bayshorecenter.org
SUMMARY:May 9\, 2025 - 2nd Friday
DESCRIPTION:Join us May 9\, 2025 for our 2nd Friday\, 5 – 8 pm!\nGreat food from the Oyster Cracker Café including fried oysters\, delicious\, fresh\, oysters on the half shell\, local beers from Glasstown Brewing Co at AJ’s Pub\, free\, self guided tours of the Delaware Bay Museum\, an interesting speaker and live music. Check out the Meerwald Mercantile while you are here. All proceeds go to support the Bayshore Center at Bivalve\, home of AJ Meerwald and the Delaware Bay Museum.\nMusician for the evening\, Randy Harry. Join us on the docks!\n \n\nSpeaker begins at 6:30. Heidi Yeh\, Ph.D. Policy Manager\, Pinelands Preservation Alliance\n \nDr. Yeh Rutgers completed her dissertation in the Department of Marine & Coastal Sciences at Rutgers University. Although a scientist by training\, she has kept a foot in policy work through internships with the U.S. EPA\, the NJ Legislature\, the Rutgers Office of Federal Relations\, and the Hudson River Foundation. She is passionate about science communication and getting more scientists involved in policy.\n  \n 
URL:https://www.bayshorecenter.org/upcoming-event/may-2nd-friday-may-10-2024/
CATEGORIES:Events,Featured
ATTACH;FMTTYPE=image/jpeg:https://www.bayshorecenter.org/wp-content/uploads/2021/08/IMG_8671.jpg
END:VEVENT
BEGIN:VEVENT
DTSTART;TZID=America/New_York:20250515T170000
DTEND;TZID=America/New_York:20250515T200000
DTSTAMP:20260423T162706
CREATED:20250514T180202Z
LAST-MODIFIED:20250514T185550Z
UID:10001210-1747328400-1747339200@www.bayshorecenter.org
SUMMARY:3rd Thursday - May 15\, 2025
DESCRIPTION:Join us May 15\, 2025 for our 3rd Thursday Event\,  5 – 8 pm!\n  \nOpen Mic on the Docks!\nMusical anchor for the evening\, Back Creek (Ray Rola and Dan Fenton)\nGreat food from the Oyster Cracker Café including fried oysters\, delicious\, fresh\, oysters on the half shell\, local beers from Glasstown Brewing Co at AJ’s Pub\, free\, self guided tours of the Delaware Bay Museum.\nCheck out the Meerwald Mercantile while you are here. All proceeds go to support the Bayshore Center at Bivalve\, home of AJ Meerwald and the Delaware Bay Museum.\nFREE ADMISSION to 3rd Thursdays  \n5:30 pm -7 pm in the Delaware Bay Museum – Suds and Science!\n \nTicketed Adult Education Programming in the Museum.\nAdmission includes one beer/wine token to AJ’s Pub\n\n\nJoin us as guest education partners share specialized lessons on the science of their work!\nRelax and enjoy great conversation about conservation efforts going on in the Bayshore.\nTickets include one beer/wine token for AJ’s Pub\nRegistration cost:\n$20 for non-members\n$15 members\nMembers please call to book to receive discount\n\n\n\n\nPurchase of a ticket to attend makes one a Social Member of the Bayshore Center at Bivalve. Simply show your confirmation email to the cashier or pick up your membership card in the Gift Shop to access AJ’s Pub. Membership good for one year.
URL:https://www.bayshorecenter.org/upcoming-event/may-3rd-thursday-may-15-2025/
CATEGORIES:Events,Featured
ATTACH;FMTTYPE=image/jpeg:https://www.bayshorecenter.org/wp-content/uploads/2025/05/20240412_190610-scaled.jpg
END:VEVENT
END:VCALENDAR